BEGIN:VCALENDAR
VERSION:2.0
PRODID:-//OOZ Murska Sobota - ECPv5.3.1//NONSGML v1.0//EN
CALSCALE:GREGORIAN
METHOD:PUBLISH
X-WR-CALNAME:OOZ Murska Sobota
X-ORIGINAL-URL:https://www.ooz-ms.si
X-WR-CALDESC:Events for OOZ Murska Sobota
BEGIN:VTIMEZONE
TZID:Europe/Ljubljana
BEGIN:DAYLIGHT
TZOFFSETFROM:+0100
TZOFFSETTO:+0200
TZNAME:CEST
DTSTART:20260329T010000
END:DAYLIGHT
BEGIN:STANDARD
TZOFFSETFROM:+0200
TZOFFSETTO:+0100
TZNAME:CET
DTSTART:20261025T010000
END:STANDARD
END:VTIMEZONE
BEGIN:VEVENT
DTSTART;TZID=Europe/Ljubljana:20260608T100000
DTEND;TZID=Europe/Ljubljana:20260608T130000
DTSTAMP:20260423T155732
CREATED:20260422T113929Z
LAST-MODIFIED:20260422T114446Z
UID:23679-1780912800-1780923600@www.ooz-ms.si
SUMMARY:Usposabljanje Uporaba umetne inteligence za učinkovito poslovanje
DESCRIPTION:Za člane OOZ M. Sobota\, ponovno razpisujemo brezplačno usposabljanje \nUPORABA UMETNE INTELIGENCE  \nZA UČINKOVITO POSLOVANJE \nki bo \nv ponedeljek\, 8. junija 2026\, ob 10.00 uri \nv prostorih OOZ Murska Sobota\,  \nLendavska ulica 33\, Murska Sobota \nV sklopu usposabljanja se boste udeleženci naučili\, kako z uporabo orodij\, kot so ChatGPT\, Copilot in Google Gemini\, brez tehničnega predznanja avtomatizirali ponavljajoče se procese ter učinkoviteje poslovali z državo. Usposabljanje je usmerjeno v uporabo umetne inteligence (UI) za analizo zakonodaje\, pripravo razpisov in druge uradne dokumentacije\, poročanja ter spremljanje zahtev javnih institucij\, ob upoštevanju varne\, etične in zakonite rabe podatkov. \nVsebina:  \n\npisanje in urejanje dopisov\, zapisnikov in povzetkov\,\nrazvrščanje in priprava odgovorov na e-pošto\,\npriprava dokumentacije ter jezikovno in slogovno urejanje\,\npriprava poročil\, zahtevkov in pregledov podatkov\,\nhitro iskanje relevantnih členov v zakonodaji in povzetki pravnih besedil\,\nuporaba UI za hitro iskanje in razumevanje javnih razpisov in zakonodaje\,\nspremljanje aktualnih razpisov\, pozivov in državnih ukrepov\,\npovzemanje sestankov\, dokumentov in daljših besedil\,\nizdelava zapisnikov sestankov na podlagi zvočnih (avdio) posnetkov\,\navtomatizacija pisarniških procesov\,\nvarna in etična uporaba UI ter zaščita podatkov.\n\nUmetna inteligenca je postala vsakodnevni pomočnik\, ki prihrani čas\, zmanjša napake in razbremeni rutinska pisarniška opravila\, kot so pisanje e-pošte\, pripravo poročil\, dopisov in povzetkov. \nStrokovni izvajalec: \nUsposabljanje bo vodil Žan Knafelc\, podjetnik iz Logatca z več kot desetletnimi izkušnjami na področju programiranja in poslovnega svetovanja. Ukvarja se z razvojem programske opreme po meri ter optimizacijo delovnih procesov\, s poudarkom na praktični in učinkoviti uporabi Ul. Izvedel je številna predavanja in delavnice v sodelovanju s podjetji ter izobraževalnimi ustanovami po celi Sloveniji\, usmerjena v konkretne\, takoj uporabne rešitve. \nPrijave  \nPrijave sprejemamo do torka\, 2. 6. 2026 oz. do zapolnitve mest na mail: ooz.ms@ozs.si ali na tel.: 02/521 40 10. Usposabljanje bomo izvedli ob minimalni prijavi 20 oseb. \nVabljeni\, da se nam pridružite. \n 
URL:https://www.ooz-ms.si/dogodek/23679/
CATEGORIES:Dogodek
ATTACH;FMTTYPE=image/jpeg:https://www.ooz-ms.si/wp-content/uploads/2026/03/umetna-intel.jpg
END:VEVENT
END:VCALENDAR