BEGIN:VCALENDAR
VERSION:2.0
PRODID:-//OOZ Murska Sobota - ECPv5.3.1//NONSGML v1.0//EN
CALSCALE:GREGORIAN
METHOD:PUBLISH
X-WR-CALNAME:OOZ Murska Sobota
X-ORIGINAL-URL:https://www.ooz-ms.si
X-WR-CALDESC:Events for OOZ Murska Sobota
BEGIN:VTIMEZONE
TZID:Europe/Ljubljana
BEGIN:DAYLIGHT
TZOFFSETFROM:+0100
TZOFFSETTO:+0200
TZNAME:CEST
DTSTART:20200329T010000
END:DAYLIGHT
BEGIN:STANDARD
TZOFFSETFROM:+0200
TZOFFSETTO:+0100
TZNAME:CET
DTSTART:20201025T010000
END:STANDARD
END:VTIMEZONE
BEGIN:VEVENT
DTSTART;TZID=Europe/Ljubljana:20200113T130000
DTEND;TZID=Europe/Ljubljana:20200113T150000
DTSTAMP:20260421T183228
CREATED:20200115T073245Z
LAST-MODIFIED:20200115T074623Z
UID:17915-1578920400-1578927600@www.ooz-ms.si
SUMMARY:Elektronski bolniški list (Ebol) in nadgradnja portala spot (eVEM)
DESCRIPTION:V okviru projekta SPOT svetovanje POMURJE vas kot partner projekta\, vabimo na brezplačno delavnico \nELEKTRONSKI BOLNIŠKI LIST (Ebol) IN NADGRADNJA PORTALA SPOT (eVEM)   \nki bo \n13. januarja 2020\, ob 13.00 uri \nv prostorih Območne obrtno-podjetniške zbornice Murska Sobota\,  \nLendavska ulica 33\, Murska Sobota \n  \nKer je bil s 1.1.2020 v celotni Sloveniji uveden elektronski bolniški list (eBOL) in ker po koncu prehodnega obdobja (po 31.1.2020) splošni zdravniki in pediatri ne bodo več izpisovali papirnega Potrdila o upravičeni zadržanosti od dela\, ampak ga boste morali že za mesec februar 2020 delodajalci obvezno prevzeti v elektronski obliki preko portala SPOT (eVEM)\, smo z ZZZS pripravili delavnico\, na kateri vam bodo predstavili: \n\nposebnosti eBOL in dostop do eBOL za zavarovane osebe preko spletnega portala ZZZS\,\nobvezno prevzemanje eBOL preko sistema SPOT (eVEM) za mesec februar 2020\,\nuporaba eBOL pri pripravi papirnih zahtevkov za refundacijo nadomestil plač\,\nnadgradnja obračuna in priprave zahtevkov za refundacijo nadomestil plač na portalu SPOT (eVEM)\,\nvmesnik eBOL in eNDM\,\nnovosti na področju vlaganja zahtevkov za direktno izplačilo nadomestila za samostojne zavezance in pridobivanje podatkov od FURS.\n\nNa delavnici bomo skušali odgovoriti na dodatna vprašanja udeležencev\, konkretni primeri bodo lahko obravnavani tudi individualno po dogodku. \nDelavnica je organizirana v sodelovanju z Zavodom za zdravstveno zavarovanje Slovenije\, Območno enoto Murska Sobota. \nDelavnica bo trajala predvidoma do 15.00 ure. \nPrijave sprejemamo do 10.01.2020 oz. do zapolnitve mest na mail: renata.stanko@ozs.si ali  sonja.erjavec@ozs.si oziroma na tel: 02/521 40 10 ali 041 747 550. Število mest je omejeno! \nDelavnica je za udeležence brezplačna.
URL:https://www.ooz-ms.si/dogodek/elektronski-bolniski-list-ebol-in-nadgradnja-portala-spot-evem/
CATEGORIES:SPOT
ATTACH;FMTTYPE=image/jpeg:https://www.ooz-ms.si/wp-content/uploads/2020/01/dogodek_ebol-01.jpg
END:VEVENT
END:VCALENDAR