BEGIN:VCALENDAR
VERSION:2.0
PRODID:-//OOZ Murska Sobota - ECPv5.3.1//NONSGML v1.0//EN
CALSCALE:GREGORIAN
METHOD:PUBLISH
X-WR-CALNAME:OOZ Murska Sobota
X-ORIGINAL-URL:https://www.ooz-ms.si
X-WR-CALDESC:Events for OOZ Murska Sobota
BEGIN:VTIMEZONE
TZID:Europe/Ljubljana
BEGIN:DAYLIGHT
TZOFFSETFROM:+0100
TZOFFSETTO:+0200
TZNAME:CEST
DTSTART:20250330T010000
END:DAYLIGHT
BEGIN:STANDARD
TZOFFSETFROM:+0200
TZOFFSETTO:+0100
TZNAME:CET
DTSTART:20251026T010000
END:STANDARD
END:VTIMEZONE
BEGIN:VEVENT
DTSTART;TZID=Europe/Ljubljana:20250923T090000
DTEND;TZID=Europe/Ljubljana:20250923T120000
DTSTAMP:20260422T014433
CREATED:20250910T114128Z
LAST-MODIFIED:20250910T114128Z
UID:23359-1758618000-1758628800@www.ooz-ms.si
SUMMARY:Pravni temelji za podjetnike: od ideje do izvedbe
DESCRIPTION:SPOT Osrednjeslovenske regije pripravlja z namenom podpore podjetniškemu razvoju brezplačno udeležbo na delavnici\, ki vam bo pomagala pri razumevanju ključnih pravnih obveznosti ter pri oblikovanju ustreznega pravnega okvira vašega podjetja. \nSe srečujete z vprašanji glede pogodb\, pravnih obveznosti ali ustrezne pravne strukture vašega poslovanja? Vabljeni na delavnico\, namenjeno podjetnikom in startup ekipam\, ki želijo utrditi svoje pravno znanje ter se izogniti dragim napakam. \nV torek\, 23. septembra 2025\, med 9. in 12. uro\, bosta dr. Peter Merc in Jure Jevšček predstavila praktične nasvete ter strategije za učinkovito obvladovanje pravnih tveganj\, ki vam bodo v podporo na varni in uspešni podjetniški poti.  \nDelavnica bo potekala v živo in prek spleta – ob prijavi izberite način udeležbe\, ki vam najbolj ustreza: \n\nPrijava za udeležbo v živo\nPrijava za spletno udeležbo (prek Zooma)\n\nKljučne teme: \n\nUvod v pravni okvir: pregled ključne zakonodaje in pravnih virov\, kjer lahko najdete pomembne informacije za vaše poslovanje\, ter kako te informacije uporabiti v praksi.\nPogodbe in pravna razmerja: kako pravilno oblikovati in skleniti pogodbe\, katere elemente je potrebno upoštevati\, kako določiti roke in pogoje za odstop od pogodbe\, ter pomen pisnih dogovorov in splošnih pogojev poslovanja.\nReševanje zahtevkov in sporov: praktični nasveti za učinkovito reševanje reklamacij\, ravnanje s potrošniškimi spori in kako preprečiti najpogostejše napake\, ki lahko vodijo v pravne zaplete.\nZavarovanje in izterjava terjatev: metode za zavarovanje terjatev\, postopki izvršbe in nasveti za obvladovanje mednarodnih izterjav\, ki lahko zagotovijo zaščito vaših poslovnih interesov.\nVarstvo osebnih podatkov (GDPR): ključne zahteve GDPR in kako pravilno ravnati z osebnimi podatki v vašem podjetju\, da se izognete kaznim in zavarujete zaupne informacije.\nDodatne teme: odgovori na specifična pravna vprašanja udeležencev ter razprava o dodatnih pravnih izzivih\, s katerimi se srečujete v podjetju.\n\nGosta \n\nDr. Peter Merc: pravnik in strokovnjak za fintech in blockchain tehnologije. Dr. Merc bo predstavil pravne izzive\, ki jih prinašajo nove tehnologije\, ter priložnosti za podjetnike v tem hitro spreminjajočem se okolju.\nJure Jevšček: strokovnjak za pravo startupov\, financiranje in regulativo. Jure bo delil svoje znanje o pravnih vidikih rasti podjetij\, predvsem pri pridobivanju investicij in širitvi na tuje trge.\n\n  \nVabljeni\, da do 18. septembra pošljete svoja pravna vprašanja na e-mail katja.cencur@tp-lj.si. Predavatelja bosta vsebino delavnice prilagodila glede na vaša vprašanja\, da bo ta čim bolj relevantna za vaše potrebe. \nOrganizator dogodka je Tehnološki park Ljubljana. \n  \n  \n 
URL:https://www.ooz-ms.si/dogodek/pravni-temelji-za-podjetnike-od-ideje-do-izvedbe/
CATEGORIES:Dogodek
END:VEVENT
END:VCALENDAR