BEGIN:VCALENDAR
VERSION:2.0
PRODID:-//OOZ Murska Sobota - ECPv5.3.1//NONSGML v1.0//EN
CALSCALE:GREGORIAN
METHOD:PUBLISH
X-WR-CALNAME:OOZ Murska Sobota
X-ORIGINAL-URL:https://www.ooz-ms.si
X-WR-CALDESC:Events for OOZ Murska Sobota
BEGIN:VTIMEZONE
TZID:Europe/Ljubljana
BEGIN:DAYLIGHT
TZOFFSETFROM:+0100
TZOFFSETTO:+0200
TZNAME:CEST
DTSTART:20260329T010000
END:DAYLIGHT
BEGIN:STANDARD
TZOFFSETFROM:+0200
TZOFFSETTO:+0100
TZNAME:CET
DTSTART:20261025T010000
END:STANDARD
END:VTIMEZONE
BEGIN:VEVENT
DTSTART;TZID=Europe/Ljubljana:20260129T160000
DTEND;TZID=Europe/Ljubljana:20260129T200000
DTSTAMP:20260425T020522
CREATED:20251212T094246Z
LAST-MODIFIED:20251216T101911Z
UID:23469-1769702400-1769716800@www.ooz-ms.si
SUMMARY:Usposabljanje za avtoserviserje OSNOVE DIAGNOSTIKE1
DESCRIPTION:Skupaj z Ljudsko univerzo Murska Sobota vas vabimo na brezplačno usposabljanje\, namenjeno avtoserviserjem na temo OSNOVE DIAGNOSTIKE 1\, \nv četrtek\, 29. januarja 2026\, med 16. in 20. uro v prostorih OOZ M. Sobota\, Lendavska 33\, Murska Sobota. \nVsebina usposabljanja: \n• Osnove elektronike\n• Osnove avtoelektrike\, meritve na sodobnih vozilih\n• Meritve z osciloskopom \nUsposabljanje bo izvedel Sašo Tomažič\, univ.dipl.ing. elektronike iz firme ST automotive\, servis elektronike\, z več kot 25 letnimi izkušnjami na področju diagnostike in servisiranja avtomobilske elektronike. Aktivno\, strokovno sodeluje na področju novih tehnologij in izobraževanj v Sloveniji in v tujini. Sodeluje s Stahlgruber akademijo\, preimenovano v CIAK Auto\, Metrel akademijo\, z AMZS akademijo\, kjer je bil zaposlen kot tehnični inštruktor in mentor AMZS ekip na izobraževanjih in tekmovanjih po Evropi\, kjer so osvojili tudi prva in druga mesta. \nIzkoristite priložnost in si v svoji bližini zagotovite izobraževanje\, ki v vaši stroki pomeni varnost za vas in vaše zaposlene\, za stranke pa zadovoljstvo ob hitri rešitvi težave. \n\n\n\nPrijave: na povezavi: https://prijave.snipi.si/xBNUehKnV  ali na zbornici\, tel.: 02/521 40 10\, do petka\, 23. januarja 2026.\n\n\n\nVabljeni\, da se usposabljanja udeležite. \n 
URL:https://www.ooz-ms.si/dogodek/usposabljanje-za-avtoserviserje-osnove-diagnostike1/
CATEGORIES:Dogodek
END:VEVENT
END:VCALENDAR