BEGIN:VCALENDAR
VERSION:2.0
PRODID:-//OOZ Murska Sobota - ECPv5.3.1//NONSGML v1.0//EN
CALSCALE:GREGORIAN
METHOD:PUBLISH
X-WR-CALNAME:OOZ Murska Sobota
X-ORIGINAL-URL:https://www.ooz-ms.si
X-WR-CALDESC:Events for OOZ Murska Sobota
BEGIN:VTIMEZONE
TZID:Europe/Ljubljana
BEGIN:DAYLIGHT
TZOFFSETFROM:+0100
TZOFFSETTO:+0200
TZNAME:CEST
DTSTART:20250330T010000
END:DAYLIGHT
BEGIN:STANDARD
TZOFFSETFROM:+0200
TZOFFSETTO:+0100
TZNAME:CET
DTSTART:20251026T010000
END:STANDARD
END:VTIMEZONE
BEGIN:VEVENT
DTSTART;TZID=Europe/Ljubljana:20250930T130000
DTEND;TZID=Europe/Ljubljana:20250930T150000
DTSTAMP:20260421T141221
CREATED:20250915T125543Z
LAST-MODIFIED:20250915T125543Z
UID:23365-1759237200-1759244400@www.ooz-ms.si
SUMMARY:Vabilo na predavanje: Evidence obračunanega in evidence odbitka DDV
DESCRIPTION:Z dnem 1. julij 2025 je stopila v veljavo nova obveznost za vse davčne zavezance\, identificirane za namene DDV: davčnemu organu je potrebno v elektronski obliki in po elektronski poti predložiti evidenco obračunanega DDV ter evidenco odbitka DDV. Gre za pomembno novost davčnega leta 2025\, ki odpira številna vsebinska in tehnična vprašanja. \nDa bi vam olajšali pripravo in izvajanje novih obveznosti\, smo v sodelovanju s Finančno upravo RS\, Finančnim uradom Murska Sobota pripravili strokovno predavanje na temo Evidenc obračunanega in odbitka DDV\, ki bo potekalo: \nv torek\, 30. 9. 2025 s pričetkom ob 13. uri \n v prostorih OOZ Murska Sobota\, Lendavska ulica 33\, M. Sobota. \n  \nNa predavanju bomo osvetlili ključne izzive\, s katerimi se boste davčni zavezanci srečevali ob oddajanju evidenc. \nPredavatelj\, Aleš Pregl\, vodja oddelka za DDV na FU Murska Sobota bo predstavil ključne ugotovitve kontrole iz prvih treh mesecev ter odgovoril na aktualna vprašanja in dileme iz prakse. \nVabimo vas\, da se udeležite predavanja in pridobite čim več uporabnih informacij za lažje delo v prihodnje. Posebej vabljeni tudi tisti\, ki ste evidence že oddajali – da z nami delite svoje izkušnje in opozorite na morebitne težave. \nPredavanje bo trajalo 2 uri. Udeležba je brezplačna. \nZaradi omejenega števila mest je prijava obvezna na tel.: 02/521 40 10 ali e-mail: sonja.erjavec@ozs.si. \nVeselimo se vaše udeležbe in verjamemo\, da boste prejeli odgovore\, ki vam bodo v pomoč pri vsakodnevnem delu. \n  \nLepo vabljeni!
URL:https://www.ooz-ms.si/dogodek/vabilo-na-predavanje-evidence-obracunanega-in-evidence-odbitka-ddv/
CATEGORIES:Dogodek
END:VEVENT
END:VCALENDAR