BEGIN:VCALENDAR
VERSION:2.0
PRODID:-//OOZ Murska Sobota - ECPv5.3.1//NONSGML v1.0//EN
CALSCALE:GREGORIAN
METHOD:PUBLISH
X-WR-CALNAME:OOZ Murska Sobota
X-ORIGINAL-URL:https://www.ooz-ms.si
X-WR-CALDESC:Events for OOZ Murska Sobota
BEGIN:VTIMEZONE
TZID:Europe/Ljubljana
BEGIN:DAYLIGHT
TZOFFSETFROM:+0100
TZOFFSETTO:+0200
TZNAME:CEST
DTSTART:20250330T010000
END:DAYLIGHT
BEGIN:STANDARD
TZOFFSETFROM:+0200
TZOFFSETTO:+0100
TZNAME:CET
DTSTART:20251026T010000
END:STANDARD
END:VTIMEZONE
BEGIN:VEVENT
DTSTART;TZID=Europe/Ljubljana:20251125T170000
DTEND;TZID=Europe/Ljubljana:20251125T200000
DTSTAMP:20260425T051916
CREATED:20251023T060836Z
LAST-MODIFIED:20251023T061700Z
UID:23400-1764090000-1764100800@www.ooz-ms.si
SUMMARY:VABILO NA SPROŠČENO DRUŽENJE OB KONCU LETA  »Pravi moški\, prava moč – skozi prijaznost«
DESCRIPTION:Spoštovani člani OOZ M. Sobota\, \nob koncu leta vas vabimo\, da si vzamete trenutek zase in se nam pridružite na sproščenem moškem druženju\, kjer bomo spregovorili tudi o temi\, ki v današnjem poslovnem svetu postaja vse pomembnejša – prijaznosti. Ta namreč ni več izbira\, temveč nuja. \nMed nas prihaja Polona Požgan\, ki nam bo v okviru motivacijskega predavanja »Prijazno je biti prijazen« na svoj iskren in duhovit način predstavila\, kako z majhnimi odločitvami in pravilnim pristopom dosežemo več – v poslu in v življenju. \nKdaj: Torek\, 25. november 2025\, ob 17. uri\nKje: Prostori OOZ Murska Sobota \nKaj boste odnesli s srečanja: \n\nkako iz dneva potegniti največ\, tudi ko se začne na “levo nogo”\,\nkako narediti okolje okoli sebe bolj prijazno\,\nkatera vprašanja si je vredno pogosteje zastavljati\,\nzakaj nas drugi vidijo tako\, kot nas\, in kako to spremeniti\,\nkako ravnati z negativnimi prepričanji ljudi okoli sebe\,\nin kako s pravo komunikacijo graditi boljše odnose.\n\nSkozi sproščeni pogovor in izkušnje bomo skupaj odkrivali\, kako prijaznost zmanjšuje stres\, izboljšuje komunikacijo\, krepi lojalnost zaposlenih in prispeva k uspešnosti podjetja. \nPo predavanju sledi prijetno druženje z zakusko\, kjer bo čas tudi za pogovor in izmenjavo izkušenj. \nProsimo\, da svojo udeležbo potrdite do 20. novembra 2025 na tel. 02/521 40 10.\nUdeležba je brezplačna. \nVzemite si čas zase – za dobro voljo\, prijetno družbo in nekaj novih spoznanj. \nVabljeni!
URL:https://www.ooz-ms.si/dogodek/vabilo-na-sprosceno-druzenje-ob-koncu-leta-pravi-moski-prava-moc-skozi-prijaznost/
CATEGORIES:Dogodek
ATTACH;FMTTYPE=image/jpeg:https://www.ooz-ms.si/wp-content/uploads/2025/10/1959071.max-1280x1280-1.jpg
END:VEVENT
END:VCALENDAR