BEGIN:VCALENDAR
VERSION:2.0
PRODID:-//OOZ Murska Sobota - ECPv5.3.1//NONSGML v1.0//EN
CALSCALE:GREGORIAN
METHOD:PUBLISH
X-WR-CALNAME:OOZ Murska Sobota
X-ORIGINAL-URL:https://www.ooz-ms.si
X-WR-CALDESC:Events for OOZ Murska Sobota
BEGIN:VTIMEZONE
TZID:Europe/Ljubljana
BEGIN:DAYLIGHT
TZOFFSETFROM:+0100
TZOFFSETTO:+0200
TZNAME:CEST
DTSTART:20250330T010000
END:DAYLIGHT
BEGIN:STANDARD
TZOFFSETFROM:+0200
TZOFFSETTO:+0100
TZNAME:CET
DTSTART:20251026T010000
END:STANDARD
END:VTIMEZONE
BEGIN:VEVENT
DTSTART;TZID=Europe/Ljubljana:20250927T130000
DTEND;TZID=Europe/Ljubljana:20250927T190000
DTSTAMP:20260421T185014
CREATED:20250909T100813Z
LAST-MODIFIED:20250909T100813Z
UID:23357-1758978000-1758999600@www.ooz-ms.si
SUMMARY:Vabilo na Srečanje prevozniških družin in prevozniških podjetij Slovenije
DESCRIPTION:Sekcija za promet Obrtno-podjetniške zbornice Slovenije in Združenje za promet Gospodarske zbornice Slovenije vabita na tradicionalni dogodek »Srečanje prevozniških družin in prevozniških podjetij Slovenije«\, ki je namenjen povezovanju\, druženju in izmenjavi izkušenj vseh generacij slovenskih prevoznikov. Letošnji dogodek se bo ponovno odvijal na Gospodarskem razstavišču v Ljubljani\, v soboto\, 27. septembra 2025\, od 10.00 ure dalje. Uradna otvoritev dogodka je ob 13. uri.  \nDogodek organizirata Obrtno-podjetniška zbornica Slovenije (Sekcija za promet) in Gospodarska zbornica Slovenije (Združenje za promet) pod pokroviteljstvom Ministrstva za infrastrukturo. \nVeč informacij in prijave na: urad.predsednika@ozs.si \nVljudno vabljeni.
URL:https://www.ooz-ms.si/dogodek/vabilo-na-srecanje-prevozniskih-druzin-in-prevozniskih-podjetij-slovenije/
CATEGORIES:Dogodek
END:VEVENT
END:VCALENDAR