BEGIN:VCALENDAR
VERSION:2.0
PRODID:-//OOZ Murska Sobota - ECPv5.3.1//NONSGML v1.0//EN
CALSCALE:GREGORIAN
METHOD:PUBLISH
X-WR-CALNAME:OOZ Murska Sobota
X-ORIGINAL-URL:https://www.ooz-ms.si
X-WR-CALDESC:Events for OOZ Murska Sobota
BEGIN:VTIMEZONE
TZID:Europe/Ljubljana
BEGIN:DAYLIGHT
TZOFFSETFROM:+0100
TZOFFSETTO:+0200
TZNAME:CEST
DTSTART:20250330T010000
END:DAYLIGHT
BEGIN:STANDARD
TZOFFSETFROM:+0200
TZOFFSETTO:+0100
TZNAME:CET
DTSTART:20251026T010000
END:STANDARD
END:VTIMEZONE
BEGIN:VEVENT
DTSTART;TZID=Europe/Ljubljana:20250925T140000
DTEND;TZID=Europe/Ljubljana:20250925T153000
DTSTAMP:20260421T222108
CREATED:20250909T085925Z
LAST-MODIFIED:20250909T085925Z
UID:23353-1758808800-1758814200@www.ooz-ms.si
SUMMARY:Vabilo na strokovni posvet  v sklopu zaposlitvenega sejma
DESCRIPTION:Vljudno vabljeni na STROKOVNI POSVET\, ki bo potekal v sklopu POMURSKEGA ZAPOSLITVENO – KARIERNEGA SEJEMA\, ki ga organizira ZRSZ\, Območna služba M. Sobota \nv četrtek\, 25. september 2025 ob 14.00 uri v predavalnici Ekonomske šole Murska Sobota\, Noršinska ulica 13\, M. Sobota. \nPredstavljene bodo naslednje vsebine:\n1. Trg dela – aktualni ukrepi APZ in storitve zavoda – ZRSZ\n2. Spodbujanje zaposlovanja invalidov\, predstavitev kvotnega sistema in vzpodbud\,\ndelovanje SVZI.net ter druge aktualne zadeve – Javni štipendijski\, razvojni\, invalidski in\npreživninski sklad RS\n3. Kako nam umetna inteligenca pomaga pri kadrovanju – ZRSZ Biserka Kišić\n4. Vprašanja udeležencev posveta \nProsimo\, da udeležbo na posvetu potrdite do četrtka 18.9.2025 na tel.: 02 5213 288 ali na mail: gpzrszmurskasobota@ess.gov.si\nPosvet je brezplačen. \nVljudno vabljeni
URL:https://www.ooz-ms.si/dogodek/vabilo-na-strokovni-posvet-v-sklopu-zaposlitvenega-sejma/
CATEGORIES:Dogodek
END:VEVENT
END:VCALENDAR