BEGIN:VCALENDAR
VERSION:2.0
PRODID:-//OOZ Murska Sobota - ECPv5.3.1//NONSGML v1.0//EN
CALSCALE:GREGORIAN
METHOD:PUBLISH
X-WR-CALNAME:OOZ Murska Sobota
X-ORIGINAL-URL:https://www.ooz-ms.si
X-WR-CALDESC:Events for OOZ Murska Sobota
BEGIN:VTIMEZONE
TZID:Europe/Ljubljana
BEGIN:DAYLIGHT
TZOFFSETFROM:+0100
TZOFFSETTO:+0200
TZNAME:CEST
DTSTART:20250330T010000
END:DAYLIGHT
BEGIN:STANDARD
TZOFFSETFROM:+0200
TZOFFSETTO:+0100
TZNAME:CET
DTSTART:20251026T010000
END:STANDARD
END:VTIMEZONE
BEGIN:VEVENT
DTSTART;TZID=Europe/Ljubljana:20250918T090000
DTEND;TZID=Europe/Ljubljana:20250918T133000
DTSTAMP:20260422T102828
CREATED:20250901T050649Z
LAST-MODIFIED:20250901T050739Z
UID:23323-1758186000-1758202200@www.ooz-ms.si
SUMMARY:Vabilo na strokovno konferenco
DESCRIPTION:PRIDRUŽITE SE NAM NA STROKOVNI KONFERENCI PROJEKTA Right Skills 4U! \nPotekala bo 18. septembra 2025 ob 9.00 uri v Zalaegerszegu (Petőfi S. u. 24) na Madžarskem. \nNa strokovni konferenci Right Skills 4U bomo odkrivali\, kako lahko razlike med generacijami postanejo NAŠA PREDNOST in ne ovira! \nPosebna gostja: Polona Požgan – ena najbolj prepoznavnih slovenskih strokovnjakinj za komunikacijo\, ki bo z nami delila praktične nasvete\, kako graditi boljše odnose in razumevanje med generacijami – v šoli\, službi in doma. \n  \nPoleg tega vas čakajo: \n✅ predstavitev rezultatov projekta Right Skills 4U\, \n✅ navdihujoča zgodba »10 let vajeniškega tabora«\, \n✅ praktični prikazi spretnosti mladih\, \n✅ odlična priložnost za mreženje. \nTolmačenje iz madžarščine v slovenščino je zagotovljeno. \n  \nUdeležba na konferenci je brezplačna\, potrebna pa je predhodna PRIJAVA. \n  \nMeghívó_RS4USzakmai konferencia_2025.09.18 \nVabilo_RS4UStrokovna konferenca_18.9.2025 \n  \n  \n  \n 
URL:https://www.ooz-ms.si/dogodek/vabilo-na-strokovno-konferenco/
CATEGORIES:Right Skills 4U
END:VEVENT
END:VCALENDAR