BEGIN:VCALENDAR
VERSION:2.0
PRODID:-//OOZ Murska Sobota - ECPv5.3.1//NONSGML v1.0//EN
CALSCALE:GREGORIAN
METHOD:PUBLISH
X-WR-CALNAME:OOZ Murska Sobota
X-ORIGINAL-URL:https://www.ooz-ms.si
X-WR-CALDESC:Events for OOZ Murska Sobota
BEGIN:VTIMEZONE
TZID:Europe/Ljubljana
BEGIN:DAYLIGHT
TZOFFSETFROM:+0100
TZOFFSETTO:+0200
TZNAME:CEST
DTSTART:20250330T010000
END:DAYLIGHT
BEGIN:STANDARD
TZOFFSETFROM:+0200
TZOFFSETTO:+0100
TZNAME:CET
DTSTART:20251026T010000
END:STANDARD
END:VTIMEZONE
BEGIN:VEVENT
DTSTART;TZID=Europe/Ljubljana:20250917T080000
DTEND;TZID=Europe/Ljubljana:20250921T180000
DTSTAMP:20260422T033311
CREATED:20250908T082519Z
LAST-MODIFIED:20250908T082747Z
UID:23345-1758096000-1758477600@www.ooz-ms.si
SUMMARY:Svoja vrata odpira 57. Mednarodni obrtni sejem Celje
DESCRIPTION:MOS Celje je najbolj prepoznaven poslovno-sejemski dogodek\, znan tudi kot »sejem vseh sejmov«. Obiščete ga lahko med 17. in 21. septembrom 2025. \nTa dogodek je zanimiv za številne domače in tuje razstavljavce\, ki se predstavijo z aktualno ponudbo storitev/izdelkov\, prirejajo pa tudi zanimive izobraževalne vsebine in raznolike spremljevalne dogodke\, ki popestrijo dogajanje na samem sejmu. \nMOS obsega naslednje segmente: \n\nMOS DOM katerega program zajema pohištvo in notranjo opremo\, trajnostne energetske rešitve\, vse za gradnjo\, ponudnike montažnih hiš\, talne\, stenske in stropne obloge\, ureditev okolice;\nMOS TURIZEM & GASTRONOMIJA\, v okviru katerega lahko spoznate turistične destinacije in lokalne proizvajalce;\nMOS B2B kjer se predstavljajo ministrstva\, zbornice\, združenja\, potekal bo festival poklicev. Našli pa boste tudi stroje\, opremo in orodja za podjetja\, kmetijsko in vrtno mehanizacijo\, do okolja prijazno tehnologijo\, digitalne rešitve;\nMOS PLUS pa zajema oblačila\, obutev\, nakit\, zdrav način življenja\, kozmetiko\, medicinske pripomočke in še veliko več.\n\nKot že omenjeno\, se na sejmu MOS predstavlja tudi OZS\, ki v okviru svojega dogajanja pripravlja različne dogodke. Vabila na njih ste člani prejeli po mailu. \nUgodnost za člane: Na vseh zbornicah lahko člani zbornice za prvi dan sejma prevzamete brezplačno vstopnico. \nČlani OOZ Murska Sobota (ob poravnani članarini)\, ki boste obiskali sejem MOS samostojno\, lahko na zbornicah še prevzamete poslovni kupon za brezplačni za obiska sejma kateri koli dan trajanja sejma MOS. \nVabljeni na najbolj prepoznavni poslovno-sejemski dogodek. \nMOS-230×300+5mm
URL:https://www.ooz-ms.si/dogodek/svoja-vrata-odpira-57-mednarodni-obrtni-sejem-celje/
CATEGORIES:Dogodek
END:VEVENT
END:VCALENDAR