BEGIN:VCALENDAR
VERSION:2.0
PRODID:-//OOZ Murska Sobota - ECPv5.3.1//NONSGML v1.0//EN
CALSCALE:GREGORIAN
METHOD:PUBLISH
X-WR-CALNAME:OOZ Murska Sobota
X-ORIGINAL-URL:https://www.ooz-ms.si
X-WR-CALDESC:Events for OOZ Murska Sobota
BEGIN:VTIMEZONE
TZID:Europe/Ljubljana
BEGIN:DAYLIGHT
TZOFFSETFROM:+0100
TZOFFSETTO:+0200
TZNAME:CEST
DTSTART:20250330T010000
END:DAYLIGHT
BEGIN:STANDARD
TZOFFSETFROM:+0200
TZOFFSETTO:+0100
TZNAME:CET
DTSTART:20251026T010000
END:STANDARD
END:VTIMEZONE
BEGIN:VEVENT
DTSTART;TZID=Europe/Ljubljana:20250925T100000
DTEND;TZID=Europe/Ljubljana:20250925T160000
DTSTAMP:20260421T203603
CREATED:20250905T093012Z
LAST-MODIFIED:20250909T094208Z
UID:23333-1758794400-1758816000@www.ooz-ms.si
SUMMARY:POMURSKI ZAPOSLITVENO -KARIERNI SEJEM
DESCRIPTION:Zavod RS za zaposlovanje\, Območna služba Murska Sobota\, v četrtek\, 25.septembra 2025 od 10.00 do 16.00 ure organizira največji regijski karierni  dogodek leta – POMURSKI ZAPOSLITVENO – KARIERNI SEJEM. Dogodek se bo odvijal v prostorih  Ekonomske šole  Murska Sobota\, Noršinska ulica 13\, M. Sobota . Na njem se bo predstavilo več kot 60 sodelujočih: delodajalci\,  institucije\, ki delujejo na trgu dela in vse srednje šole Pomurja. Vzporedno bo potekal bogat ob sejemski program\, kjer se bodo obiskovalci lahko informirali o prostih delovnih mestih\,  možnostih izobraževanja\, dela v tujini\, štipendijah\, šolski praksi\, študentskem delu\, spoznali poklice in prejeli številne druge pomembne informacije o trgu dela in karierni poti. Vstop je prost. Vljudno vabljeni! \n \nPZS2025 verzijazlozenke 2
URL:https://www.ooz-ms.si/dogodek/pomurski-zaposlitveno-karierni-sejem/
CATEGORIES:Dogodek
END:VEVENT
END:VCALENDAR