BEGIN:VCALENDAR
VERSION:2.0
PRODID:-//OOZ Murska Sobota - ECPv5.3.1//NONSGML v1.0//EN
CALSCALE:GREGORIAN
METHOD:PUBLISH
X-WR-CALNAME:OOZ Murska Sobota
X-ORIGINAL-URL:https://www.ooz-ms.si
X-WR-CALDESC:Events for OOZ Murska Sobota
BEGIN:VTIMEZONE
TZID:Europe/Ljubljana
BEGIN:DAYLIGHT
TZOFFSETFROM:+0100
TZOFFSETTO:+0200
TZNAME:CEST
DTSTART:20250330T010000
END:DAYLIGHT
BEGIN:STANDARD
TZOFFSETFROM:+0200
TZOFFSETTO:+0100
TZNAME:CET
DTSTART:20251026T010000
END:STANDARD
END:VTIMEZONE
BEGIN:VEVENT
DTSTART;TZID=Europe/Ljubljana:20251114T080000
DTEND;TZID=Europe/Ljubljana:20251114T170000
DTSTAMP:20260425T051132
CREATED:20251114T082655Z
LAST-MODIFIED:20251114T082655Z
UID:23434-1763107200-1763139600@www.ooz-ms.si
SUMMARY:Zimski regres in spremembe normirancev
DESCRIPTION:Zakon o izplačilu zimskega regresa ter prenovi ugotavljanja davčne osnove z upoštevanjem normiranih odhodkov je v zakonodajni proceduri. Predvideva se\, da bo sprejet do konca leta 2025. Delodajalci ob zaključku leta pogosto nagradijo zaposlene. Izplačilo je običajno povezano s poslovno uspešnostjo podjetja\, delovno uspešnostjo posameznika ali pa neodvisno od poslovanja podjetja. V letu 2025 pa bo prvič potrebno izplačati tudi zimski regres. S 1. 1. 2026 bodo v veljavo stopile tudi spremembe pri zavezancih\, ki ugotavljajo davčno osnovo po normiranih odhodkih. Kdo bo lahko v letu 2026 še ugotavljal davčno osnovo po normiranih odhodkih in kaj lahko pričakujemo od novega predloga?\n\nObrtno-podjetniška zbornica Slovenije pripravlja spletni seminar\, ki bo potekal v ponedeljek\, 1.12.2025 od 10. – 11.30 ure.\n\nVsebina: \n\nZimski regres\nRazlikovanje med poslovno uspešnostjo in zimskim regresom\nKdo je upravičen do izplačila\, pod kakšnimi pogoji in v kateri višini?\nLahko delodajalec zamakne plačilo?\nDavčna obravnava izplačil\nPoročanje o izplačilih v REK-O\n\n\nNormiranci v letu 2026\nVstopni pogoji – kdo bo lahko vstopil v sistem?\nKdaj bo potrebno ugotavljati davčno osnovo po dejanskih prihodkih in odhodkih?\nObdavčitev normirancev po novem\nPogoji za ponovni vstop v sistem normiranosti\n\nPredavateljica: \n\nJasmina Malnar Molek\nsvetovalka v Svetovalnem centru Obrtno-podjetniške zbornice Slovenije. Predavateljica ima več kot 30 let delovnih izkušenj s področja financ\, računovodstva in davkov\, ki jih je pridobila v družinskem podjetju in finančni organizaciji. V letu 2022 ji je Slovenski inštitut za revizijo podelil strokovni naziv preizkušena davčnica. V preteklem obdobju je bila članica Strateškega sveta za debirokratizacijo na davčnem področju. V letu 2022 je bila članica Pogajalske skupine ESS za pripravo sprememb Uredbe o davčni obravnavi povračil stroškov in drugih dohodkov iz delovnega razmerja in Strokovnega odbora za finance in gospodarstvo. V letu 2024 je sodelovala v Delovni skupini za davke in Strateškem svetu za davke ter pogajanjih na pokojninskem področju. Je avtorica številnih člankov z računovodskega in davčnega področja. V zadnjih treh letih je izvedla več kot 100 predavanj širom Slovenije. \nKotizacija znaša: \n\n130\,00+22% DDV = 158\,60 EUR\nčlani zbornice: 100\,00+22%DDV= 122\,00 EUR\n\nDruge informacije (prijava\, odjava\, plačilo kotizacije\, kontakt…): \n– Obvezna je spletna prijava na dogodek\n– Trajanje: 2 šolski uri\n– Gradivo: Power Point prezentacija.\n– webinar se ne snema\n– Zoom spletna poveza se posreduje prijavljenim dan pred izvedbo\n– Kotizacija se poravna pred pričetkom seminarja na transakcijski račun OZS\, Celovška 71\, Ljubljana\, št.: 02013-0253606416 (NLB)\,\nSklic: 00 200035-davčna številka. Namen plačila: OTHR.\n– Potrdilo o plačilu se posreduje na e-naslov izobrazevanje@ozs.si\,\n– Prijave sprejemamo do zapolnitve mest oziroma do vključno prvega dne izvedbe dogodka.\n– Pisne odjave poslane na izobrazevanje@ozs.si upoštevamo do 2 dni pred začetkom izobraževanja\, sicer zaračunavamo 20 % kotizacije\nza pripravo gradiva in druge administrativne stroške. Odjav na dan izobraževanja ne upoštevamo.\n  Brez odjave\, kotizacijo zaračunamo v celoti.\n– Seminar bo organiziran za minimalno 7 udeležencev.\n– V  primeru prenizkega števila prijav do 2 dni pred izvedbo si pridržujemo pravico do odpovedi.\n– Dodatne informacije: izobrazevanje@ozs.si\, 01 5830 504/553. \nPomembno:\nNeplačilo kotizacije ne pomeni odjave od dogodka. Odjava je obvezna in le-ta mora biti pisna (izobrazevanje@ozs.si) do 2 dni pred izvedbo.\nVljudno vabljeni! \n\n\nPrijava na dogodek
URL:https://www.ooz-ms.si/dogodek/zimski-regres-in-spremembe-normirancev/
END:VEVENT
END:VCALENDAR