BEGIN:VCALENDAR
VERSION:2.0
PRODID:-//OOZ Murska Sobota - ECPv5.3.1//NONSGML v1.0//EN
CALSCALE:GREGORIAN
METHOD:PUBLISH
X-WR-CALNAME:OOZ Murska Sobota
X-ORIGINAL-URL:https://www.ooz-ms.si
X-WR-CALDESC:Events for OOZ Murska Sobota
BEGIN:VTIMEZONE
TZID:Europe/Ljubljana
BEGIN:DAYLIGHT
TZOFFSETFROM:+0100
TZOFFSETTO:+0200
TZNAME:CEST
DTSTART:20260329T010000
END:DAYLIGHT
BEGIN:STANDARD
TZOFFSETFROM:+0200
TZOFFSETTO:+0100
TZNAME:CET
DTSTART:20261025T010000
END:STANDARD
END:VTIMEZONE
BEGIN:VEVENT
DTSTART;TZID=Europe/Ljubljana:20260513T090000
DTEND;TZID=Europe/Ljubljana:20260513T103000
DTSTAMP:20260424T230301
CREATED:20260320T064140Z
LAST-MODIFIED:20260421T053133Z
UID:23631-1778662800-1778668200@www.ooz-ms.si
SUMMARY:Spletni seminar: Urejanje delovnih razmerij za zasebni sektor v praksi
DESCRIPTION:Skupaj z Združenjem delodajalcev obrti in podjetništva Slovenije\, organiziramo za člane OOZ M. Sobota\, brezplačni seminar Urejanje delovnih razmerij za zasebni sektor v praksi\, ki bo potekal v sredo\, 13. maja 2026 ob 9. uri\, preko programa ZOOM.  \nVsebina seminarja: \n\nObvezni interni akti.\nKatera kolektivna pogodba vas zavezuje\, če sploh katera.\nPosebnosti pogodb o zaposlitvi: pogodba o zaposlitvi za določen čas\, s krajšim delovnim časom.\nKljučne stvari glede delovnega časa: enakomerna in neenakomerna razporeditev\, nadure\, dodatki.\nKako pravilno odmeriti letni dopust in izplačati regres.\nKako ukrepati\, kadar pride do kršitev pogodbe o zaposlitvi.\nPrenehanje pogodbe o zaposlitvi – vrste in postopek: sporazum\, odpoved.\nOdpravnina: ob izteku pogodbe za določen čas iz poslovnega razloga.\nKaj moramo narediti ob upokojitvi delavca.\n\nOdgovori na vprašanja udeležencev in razprava. \nSeminar bo trajal dve šolski uri. \nPredavateljica: Nina Scortegagna Kavčnik.  \nPrijave članov OOZ M. Sobota: do 8.5.2026 na mail: ooz.ms@ozs.si. Ostali udeleženci\, se lahko prijavite na seminar preko ZDOPS-a. Povezavo za spremljanje seminarja\, bomo prijavljenim poslali pred izvedbo seminarja.
URL:https://www.ooz-ms.si/dogodek/spletni-seminar-urejanje-delovnih-razmerij-za-zasebni-sektor-v-praksi/
CATEGORIES:Dogodek
ATTACH;FMTTYPE=image/jpeg:https://www.ooz-ms.si/wp-content/uploads/2026/03/Slika.jpg
END:VEVENT
END:VCALENDAR